BEGIN:VCALENDAR
VERSION:2.0
CALSCALE:GREGORIAN
PRODID:-//Diputació de Barcelona//DibaCMS//EN
BEGIN:VEVENT
UID:7650
DTSTAMP:20260420T164515
DTSTART:20190815T210000
DTEND:20190815T235500
SUMMARY:Sopar a la fresca i música en viu
LOCATION:Al Poliesportiu municipal 
METHOD:PUBLISH
X-WR-CALNAME:vallgorguina@vallgorguina.cat
X-WR-TIMEZONE:Europe/Madrid
DESCRIPTION:Per a més informació consulteu: el cartell informatiu del Sopar

URI:https://www.vallgorguina.cat/actualitat/agenda/sopar-a-la-fresca-i-musica-en-viu.html
CLASS:PUBLIC
END:VEVENT
END:VCALENDAR
