BEGIN:VCALENDAR
VERSION:2.0
CALSCALE:GREGORIAN
PRODID:-//Diputació de Barcelona//DibaCMS//EN
BEGIN:VEVENT
UID:7668
DTSTAMP:20260421T024857
DTSTART:20190505T110000
DTEND:20190505T140000
SUMMARY:Remeis que ofereix la natura 
LOCATION:
METHOD:PUBLISH
X-WR-CALNAME:vallgorguina@vallgorguina.cat
X-WR-TIMEZONE:Europe/Madrid
DESCRIPTION:Sortida i activitat en família

URI:https://www.vallgorguina.cat/actualitat/agenda/remeis-que-ofereix-la-natura-.html
CLASS:PUBLIC
END:VEVENT
END:VCALENDAR
