BEGIN:VCALENDAR
VERSION:2.0
CALSCALE:GREGORIAN
PRODID:-//Diputació de Barcelona//DibaCMS//EN
BEGIN:VEVENT
UID:7674
DTSTAMP:20260421T153719
DTSTART:20190220T150000
DTEND:20190220T180000
SUMMARY:Jornada de portes obertes a l'Escola Vallgorguina
LOCATION:
METHOD:PUBLISH
X-WR-CALNAME:vallgorguina@vallgorguina.cat
X-WR-TIMEZONE:Europe/Madrid
DESCRIPTION:Jornada de portes obertes a l'Escola Vallgorguina el proper dia 20 de febrer a les 15:00 h.

URI:https://www.vallgorguina.cat/actualitat/agenda/7674-jornada-de-portes-obertes-a-lescola-vallgorguina.html
CLASS:PUBLIC
END:VEVENT
END:VCALENDAR
