BEGIN:VCALENDAR
VERSION:2.0
CALSCALE:GREGORIAN
PRODID:-//Diputació de Barcelona//DibaCMS//EN
BEGIN:VEVENT
UID:7678
DTSTAMP:20260421T221043
DTSTART:20190212T170000
DTEND:20190212T190000
SUMMARY:Fes lloc al teu mòbil
LOCATION:
METHOD:PUBLISH
X-WR-CALNAME:vallgorguina@vallgorguina.cat
X-WR-TIMEZONE:Europe/Madrid
DESCRIPTION:Taller Fes lloc al teu mòbil, dies 12 i 15 de febrer , de 17:00 a 19:00 al Local Jove (baixos Ajuntament)

URI:https://www.vallgorguina.cat/actualitat/agenda/7678-fes-lloc-al-teu-mobil.html
CLASS:PUBLIC
END:VEVENT
END:VCALENDAR
