BEGIN:VCALENDAR
VERSION:2.0
CALSCALE:GREGORIAN
PRODID:-//Diputació de Barcelona//DibaCMS//EN
BEGIN:VEVENT
UID:7679
DTSTAMP:20260422T045453
DTSTART:20190215T170000
DTEND:20190215T190000
SUMMARY:Fes lloc al teu mòbil
LOCATION:
METHOD:PUBLISH
X-WR-CALNAME:vallgorguina@vallgorguina.cat
X-WR-TIMEZONE:Europe/Madrid
DESCRIPTION:
URI:https://www.vallgorguina.cat/actualitat/agenda/7679-fes-lloc-al-teu-mobil.html
CLASS:PUBLIC
END:VEVENT
END:VCALENDAR
