BEGIN:VCALENDAR
VERSION:2.0
CALSCALE:GREGORIAN
PRODID:-//Diputació de Barcelona//DibaCMS//EN
BEGIN:VEVENT
UID:7688
DTSTAMP:20260421T221342
DTSTART:20190228T173000
DTEND:20190228T181500
SUMMARY:Proposta de col.loqui de l'Escola Waldorf
LOCATION:
METHOD:PUBLISH
X-WR-CALNAME:vallgorguina@vallgorguina.cat
X-WR-TIMEZONE:Europe/Madrid
DESCRIPTION:
URI:https://www.vallgorguina.cat/actualitat/agenda/7688-proposta-de-colloqui-de-lescola-waldorf.html
CLASS:PUBLIC
END:VEVENT
END:VCALENDAR
