BEGIN:VCALENDAR
VERSION:2.0
CALSCALE:GREGORIAN
PRODID:-//Diputació de Barcelona//DibaCMS//EN
BEGIN:VEVENT
UID:7694
DTSTAMP:20260421T084404
DTSTART:20190331T103000
DTEND:20190331T123000
SUMMARY:Assemblea General Ordinària 2019 Baronia del Montseny
LOCATION:
METHOD:PUBLISH
X-WR-CALNAME:vallgorguina@vallgorguina.cat
X-WR-TIMEZONE:Europe/Madrid
DESCRIPTION:Al local social de la Plaça de la Font, sn de la Baronia del Montseny

URI:https://www.vallgorguina.cat/actualitat/agenda/assemblea-general-ordinaria-2019-baronia-del-montseny.html
CLASS:PUBLIC
END:VEVENT
END:VCALENDAR
