BEGIN:VCALENDAR
VERSION:2.0
CALSCALE:GREGORIAN
PRODID:-//Diputació de Barcelona//DibaCMS//EN
BEGIN:VEVENT
UID:7702
DTSTAMP:20260420T225133
DTSTART:20190616T090000
DTEND:20190616T150000
SUMMARY:10e. Aniversari de los Guardianes MG 
LOCATION:
METHOD:PUBLISH
X-WR-CALNAME:vallgorguina@vallgorguina.cat
X-WR-TIMEZONE:Europe/Madrid
DESCRIPTION:16 de juny de 9 a 14 hores 10e. Aniversari de los Guardianes MG (al poliesportiu)

URI:https://www.vallgorguina.cat/actualitat/agenda/10e-aniversari-de-los-guardianes-mg-.html
CLASS:PUBLIC
END:VEVENT
END:VCALENDAR
