BEGIN:VCALENDAR
VERSION:2.0
CALSCALE:GREGORIAN
PRODID:-//Diputació de Barcelona//DibaCMS//EN
BEGIN:VEVENT
UID:7709
DTSTAMP:20260422T002349
DTSTART:20190216T161500
DTEND:20190216T180000
SUMMARY:CINC Cinema infantil en català
LOCATION:
METHOD:PUBLISH
X-WR-CALNAME:vallgorguina@vallgorguina.cat
X-WR-TIMEZONE:Europe/Madrid
DESCRIPTION:Els increibles 2, en català, dissabte 16 de febrer a les 16:15 al cinema Ocine Altrium de Sant Celoni

Preu entrada: 4,20 €

 

URI:https://www.vallgorguina.cat/actualitat/agenda/7709-cinc-cinema-infantil-en-catala.html
CLASS:PUBLIC
END:VEVENT
END:VCALENDAR
