BEGIN:VCALENDAR
VERSION:2.0
CALSCALE:GREGORIAN
PRODID:-//Diputació de Barcelona//DibaCMS//EN
BEGIN:VEVENT
UID:7710
DTSTAMP:20260421T221120
DTSTART:20190223T161500
DTEND:20190223T180000
SUMMARY:CINC Cinema infantil en Català
LOCATION:
METHOD:PUBLISH
X-WR-CALNAME:vallgorguina@vallgorguina.cat
X-WR-TIMEZONE:Europe/Madrid
DESCRIPTION:Hotel Transilvania, en català, dissabte 23 de febrer a les 16:15 al cinema Ocine Altrium de Sant Celoni

Preu entrada: 4,20 €

URI:https://www.vallgorguina.cat/actualitat/agenda/7710-cinc-cinema-infantil-en-catala.html
CLASS:PUBLIC
END:VEVENT
END:VCALENDAR
