BEGIN:VCALENDAR
VERSION:2.0
CALSCALE:GREGORIAN
PRODID:-//Diputació de Barcelona//DibaCMS//EN
BEGIN:VEVENT
UID:7711
DTSTAMP:20260422T002708
DTSTART:20190302T161500
DTEND:20190302T180000
SUMMARY:CINC Cinema infantil en Català
LOCATION:
METHOD:PUBLISH
X-WR-CALNAME:vallgorguina@vallgorguina.cat
X-WR-TIMEZONE:Europe/Madrid
DESCRIPTION:Smallfoot, en català, dissabte 2 de març a les 16:15 al cinema Ocine Altrium de Sant Celoni

Preu entrada: 4,20 €

URI:https://www.vallgorguina.cat/actualitat/agenda/7711-cinc-cinema-infantil-en-catala.html
CLASS:PUBLIC
END:VEVENT
END:VCALENDAR
