BEGIN:VCALENDAR
VERSION:2.0
CALSCALE:GREGORIAN
PRODID:-//Diputació de Barcelona//DibaCMS//EN
BEGIN:VEVENT
UID:7712
DTSTAMP:20260423T182551
DTSTART:20190309T161500
DTEND:20190309T180000
SUMMARY:CINC _ Cinema Infantil en Català
LOCATION:
METHOD:PUBLISH
X-WR-CALNAME:vallgorguina@vallgorguina.cat
X-WR-TIMEZONE:Europe/Madrid
DESCRIPTION:En Ralph destrueix internet, en català, dissabte 9 de març a les 16:15 al cinema Ocine Altrium de Sant Celoni

Preu entrada: 4,20 €

URI:https://www.vallgorguina.cat/actualitat/agenda/7712-cinc-cinema-infantil-en-catala.html
CLASS:PUBLIC
END:VEVENT
END:VCALENDAR
