BEGIN:VCALENDAR
VERSION:2.0
CALSCALE:GREGORIAN
PRODID:-//Diputació de Barcelona//DibaCMS//EN
BEGIN:VEVENT
UID:7713
DTSTAMP:20260423T123321
DTSTART:20190316T161500
DTEND:20190316T180000
SUMMARY:CINC Cinema infantil en català
LOCATION:
METHOD:PUBLISH
X-WR-CALNAME:vallgorguina@vallgorguina.cat
X-WR-TIMEZONE:Europe/Madrid
DESCRIPTION:Spiderman un nou univers, en català, dissabte 16 de març al cinema Ocine Altrium de Sant Celoni a les 16:15h.

Preu entrada: 4,20 €

URI:https://www.vallgorguina.cat/actualitat/agenda/7713-cinc-cinema-infantil-en-catala.html
CLASS:PUBLIC
END:VEVENT
END:VCALENDAR
