BEGIN:VCALENDAR
VERSION:2.0
CALSCALE:GREGORIAN
PRODID:-//Diputació de Barcelona//DibaCMS//EN
BEGIN:VEVENT
UID:7716
DTSTAMP:20260423T142203
DTSTART:20190407T090000
DTEND:20190407T123000
SUMMARY:Passejades Parc del Montnegre i el Corredor 2019
LOCATION:
METHOD:PUBLISH
X-WR-CALNAME:vallgorguina@vallgorguina.cat
X-WR-TIMEZONE:Europe/Madrid
DESCRIPTION:Sortida " Plans, Rocs i Bruixes", el dia 7 d'abril a les 9:00h de l'Ajuntament de Vallgorguina

URI:https://www.vallgorguina.cat/actualitat/agenda/passejades-parc-del-montnegre-i-el-corredor-2019.html
CLASS:PUBLIC
END:VEVENT
END:VCALENDAR
