BEGIN:VCALENDAR
VERSION:2.0
CALSCALE:GREGORIAN
PRODID:-//Diputació de Barcelona//DibaCMS//EN
BEGIN:VEVENT
UID:7717
DTSTAMP:20260421T024756
DTSTART:20190525T100000
DTEND:20190525T130000
SUMMARY:Passejades Parc del Montnegre i el Corredor 2019
LOCATION:
METHOD:PUBLISH
X-WR-CALNAME:vallgorguina@vallgorguina.cat
X-WR-TIMEZONE:Europe/Madrid
DESCRIPTION:Sortida "Remeis de Sàvies - Plantes Remeieres" , dissabte 25 de maig a les 10:00h. de l'Ajuntament de Vallgorguina

URI:https://www.vallgorguina.cat/actualitat/agenda/7717-passejades-parc-del-montnegre-i-el-corredor-2019.html
CLASS:PUBLIC
END:VEVENT
END:VCALENDAR
