BEGIN:VCALENDAR
VERSION:2.0
CALSCALE:GREGORIAN
PRODID:-//Diputació de Barcelona//DibaCMS//EN
BEGIN:VEVENT
UID:7720
DTSTAMP:20260421T083135
DTSTART:20190427T180000
DTEND:20190427T210000
SUMMARY:Viure l'art
LOCATION:
METHOD:PUBLISH
X-WR-CALNAME:vallgorguina@vallgorguina.cat
X-WR-TIMEZONE:Europe/Madrid
DESCRIPTION:Un passeig pel Reinaixement, amb pintura,música i dansa.

La Primavera de Botticelli

A la sala d'Exposicions 

3 edició del Petit Festival

URI:https://www.vallgorguina.cat/actualitat/agenda/viure-lart.html
CLASS:PUBLIC
END:VEVENT
END:VCALENDAR
