BEGIN:VCALENDAR
VERSION:2.0
CALSCALE:GREGORIAN
PRODID:-//Diputació de Barcelona//DibaCMS//EN
BEGIN:VEVENT
UID:7724
DTSTAMP:20260421T152715
DTSTART:20190310T090000
DTEND:20190310T170000
SUMMARY:Concurs de doma clàssica
LOCATION:
METHOD:PUBLISH
X-WR-CALNAME:vallgorguina@vallgorguina.cat
X-WR-TIMEZONE:Europe/Madrid
DESCRIPTION:Concurs de doma clàssica puntuable pel campionat de la federació catalana d’hípica, organitzat per ASSOCIACIÓ CARE HORSE VALLGORGUINA

Els dies 10/03/2019 i 29/09/2019

URI:https://www.vallgorguina.cat/actualitat/agenda/concurs-de-doma-classica.html
CLASS:PUBLIC
END:VEVENT
END:VCALENDAR
