BEGIN:VCALENDAR
VERSION:2.0
CALSCALE:GREGORIAN
PRODID:-//Diputació de Barcelona//DibaCMS//EN
BEGIN:VEVENT
UID:7730
DTSTAMP:20260421T083029
DTSTART:20190330T183000
DTEND:20190330T210000
SUMMARY:FESTIVAL DE L'AULA DE MÚSICA
LOCATION:
METHOD:PUBLISH
X-WR-CALNAME:vallgorguina@vallgorguina.cat
X-WR-TIMEZONE:Europe/Madrid
DESCRIPTION:A la Sala D'Exposicions

Actuació dels alumnes de l'Aula dirigits pel seu professor, el Dani Feijó

Amb la participació del Duo de guitarres elèctriques: Gerard Andrade i Marc Cañete i la col.laboració especial del Josep Riera.

 

 

URI:https://www.vallgorguina.cat/actualitat/agenda/festival-de-laula-de-musica.html
CLASS:PUBLIC
END:VEVENT
END:VCALENDAR
