BEGIN:VCALENDAR
VERSION:2.0
CALSCALE:GREGORIAN
PRODID:-//Diputació de Barcelona//DibaCMS//EN
BEGIN:VEVENT
UID:7735
DTSTAMP:20260421T061551
DTSTART:20190428T160000
DTEND:20190428T170000
SUMMARY:Màgia amb ADAM XOU
LOCATION:
METHOD:PUBLISH
X-WR-CALNAME:vallgorguina@vallgorguina.cat
X-WR-TIMEZONE:Europe/Madrid
DESCRIPTION:El dia 28 d'abril a les 16:00 h. a La Fàbrica , màgia amb ADAM XOU

URI:https://www.vallgorguina.cat/actualitat/agenda/magia-amb-adam-xou.html
CLASS:PUBLIC
END:VEVENT
END:VCALENDAR
