BEGIN:VCALENDAR
VERSION:2.0
CALSCALE:GREGORIAN
PRODID:-//Diputació de Barcelona//DibaCMS//EN
BEGIN:VEVENT
UID:7736
DTSTAMP:20260421T022652
DTSTART:20190601T160000
DTEND:20190601T180000
SUMMARY:Espectacle d'humor amb "Mayte Carreras"
LOCATION:
METHOD:PUBLISH
X-WR-CALNAME:vallgorguina@vallgorguina.cat
X-WR-TIMEZONE:Europe/Madrid
DESCRIPTION:El dia 1 de juny a les 16:00 h. espectacle d'humor amb la showwoman "Mayte Carreras"

URI:https://www.vallgorguina.cat/actualitat/agenda/espectacle-dhumor-amb-mayte-carreras.html
CLASS:PUBLIC
END:VEVENT
END:VCALENDAR
