BEGIN:VCALENDAR
VERSION:2.0
CALSCALE:GREGORIAN
PRODID:-//Diputació de Barcelona//DibaCMS//EN
BEGIN:VEVENT
UID:7738
DTSTAMP:20260420T131807
DTSTART:20190815T223000
DTEND:20190815T235900
SUMMARY:Ball amb el Duet Esquitx
LOCATION:
METHOD:PUBLISH
X-WR-CALNAME:vallgorguina@vallgorguina.cat
X-WR-TIMEZONE:Europe/Madrid
DESCRIPTION:Ball amb el Duet Esquitx el dia 15 d'agost a les 22:30h. a la pista coberta

URI:https://www.vallgorguina.cat/actualitat/agenda/ball-amb-el-duet-esquitx.html
CLASS:PUBLIC
END:VEVENT
END:VCALENDAR
