BEGIN:VCALENDAR
VERSION:2.0
CALSCALE:GREGORIAN
PRODID:-//Diputació de Barcelona//DibaCMS//EN
BEGIN:VEVENT
UID:774
DTSTAMP:20260423T043511
DTSTART:20180224T180000
DTEND:20180224T200000
SUMMARY:Xerrada i tast de vins per en Lluís Romero
LOCATION:
METHOD:PUBLISH
X-WR-CALNAME:vallgorguina@vallgorguina.cat
X-WR-TIMEZONE:Europe/Madrid
DESCRIPTION:
URI:https://www.vallgorguina.cat/actualitat/agenda/xerrada-i-tast-de-vins-per-en-lluis-romero.html
CLASS:PUBLIC
END:VEVENT
END:VCALENDAR
