BEGIN:VCALENDAR
VERSION:2.0
CALSCALE:GREGORIAN
PRODID:-//Diputació de Barcelona//DibaCMS//EN
BEGIN:VEVENT
UID:775
DTSTAMP:20260423T101317
DTSTART:20180202T200000
DTEND:20180202T210000
SUMMARY:Trobada d'artistes i creadors de Vallgorguina
LOCATION:
METHOD:PUBLISH
X-WR-CALNAME:vallgorguina@vallgorguina.cat
X-WR-TIMEZONE:Europe/Madrid
DESCRIPTION:A l'ajuntament

URI:https://www.vallgorguina.cat/actualitat/agenda/trobada-dartistes-i-creadors-de-vallgorguina.html
CLASS:PUBLIC
END:VEVENT
END:VCALENDAR
