BEGIN:VCALENDAR
VERSION:2.0
CALSCALE:GREGORIAN
PRODID:-//Diputació de Barcelona//DibaCMS//EN
BEGIN:VEVENT
UID:7752
DTSTAMP:20260421T200321
DTSTART:20190317T190000
DTEND:20190217T220000
SUMMARY:El Gran Circ d'Erick Satie
LOCATION:
METHOD:PUBLISH
X-WR-CALNAME:vallgorguina@vallgorguina.cat
X-WR-TIMEZONE:Europe/Madrid
DESCRIPTION:El Gran Circ d'Erick Satie

3ºEdició Petit Festival

Concert Escenificat

17 de març a les 19.00h

URI:https://www.vallgorguina.cat/actualitat/agenda/el-gran-circ-derick-satie.html
CLASS:PUBLIC
END:VEVENT
END:VCALENDAR
