BEGIN:VCALENDAR
VERSION:2.0
CALSCALE:GREGORIAN
PRODID:-//Diputació de Barcelona//DibaCMS//EN
BEGIN:VEVENT
UID:7753
DTSTAMP:20260421T195537
DTSTART:20190317T190000
DTEND:20190317T220000
SUMMARY:El Gran circ d' Erik Satie
LOCATION:
METHOD:PUBLISH
X-WR-CALNAME:vallgorguina@vallgorguina.cat
X-WR-TIMEZONE:Europe/Madrid
DESCRIPTION:
	3º Edició Petit festival
	Concert Escenificat
	17 març a les 19.00h


URI:https://www.vallgorguina.cat/actualitat/agenda/el-gran-circ-d-erik-satie.html
CLASS:PUBLIC
END:VEVENT
END:VCALENDAR
