BEGIN:VCALENDAR
VERSION:2.0
CALSCALE:GREGORIAN
PRODID:-//Diputació de Barcelona//DibaCMS//EN
BEGIN:VEVENT
UID:7754
DTSTAMP:20260420T150818
DTSTART:20190831T213000
DTEND:20190901T020000
SUMMARY:Sopar Fi d'Estiu
LOCATION:
METHOD:PUBLISH
X-WR-CALNAME:vallgorguina@vallgorguina.cat
X-WR-TIMEZONE:Europe/Madrid
DESCRIPTION:
	21.30h. - Sopar de carmanyola (reserva la taula a l'Ajuntament)
	i seguidament.... Concert tribut Sopa de Cabra 


URI:https://www.vallgorguina.cat/actualitat/agenda/sopar-fi-destiu.html
CLASS:PUBLIC
END:VEVENT
END:VCALENDAR
