BEGIN:VCALENDAR
VERSION:2.0
CALSCALE:GREGORIAN
PRODID:-//Diputació de Barcelona//DibaCMS//EN
BEGIN:VEVENT
UID:7756
DTSTAMP:20260421T134724
DTSTART:20190510T000000
DTEND:20190512T000000
SUMMARY:Let's clean up Europa
LOCATION:
METHOD:PUBLISH
X-WR-CALNAME:vallgorguina@vallgorguina.cat
X-WR-TIMEZONE:Europe/Madrid
DESCRIPTION:
URI:https://www.vallgorguina.cat/actualitat/agenda/lets-clean-up-europa.html
CLASS:PUBLIC
END:VEVENT
END:VCALENDAR
