BEGIN:VCALENDAR
VERSION:2.0
CALSCALE:GREGORIAN
PRODID:-//Diputació de Barcelona//DibaCMS//EN
BEGIN:VEVENT
UID:7757
DTSTAMP:20260421T063542
DTSTART:20190412T093000
DTEND:20190412T160000
SUMMARY:Escola Bressol Municipal Avet Blau
LOCATION:
METHOD:PUBLISH
X-WR-CALNAME:vallgorguina@vallgorguina.cat
X-WR-TIMEZONE:Europe/Madrid
DESCRIPTION:Jornada de Portes Obertes de 9.30h a 11.30h i de 15.00h a 16.00h ,divendres 12 abril 2019

URI:https://www.vallgorguina.cat/actualitat/agenda/escola-bressol-municipal-avet-blau.html
CLASS:PUBLIC
END:VEVENT
END:VCALENDAR
