BEGIN:VCALENDAR
VERSION:2.0
CALSCALE:GREGORIAN
PRODID:-//Diputació de Barcelona//DibaCMS//EN
BEGIN:VEVENT
UID:7758
DTSTAMP:20260423T183005
DTSTART:20190309T163000
DTEND:20190309T190000
SUMMARY:Associació Caliu el Dolmen
LOCATION:
METHOD:PUBLISH
X-WR-CALNAME:vallgorguina@vallgorguina.cat
X-WR-TIMEZONE:Europe/Madrid
DESCRIPTION:Assamblea General Ordinària dissabte 9 de març

URI:https://www.vallgorguina.cat/actualitat/agenda/associacio-caliu-el-dolmen.html
CLASS:PUBLIC
END:VEVENT
END:VCALENDAR
