BEGIN:VCALENDAR
VERSION:2.0
CALSCALE:GREGORIAN
PRODID:-//Diputació de Barcelona//DibaCMS//EN
BEGIN:VEVENT
UID:7759
DTSTAMP:20260422T071115
DTSTART:20190316T133000
DTEND:20190316T160000
SUMMARY:Calçotada a la Baronia del Montseny
LOCATION:
METHOD:PUBLISH
X-WR-CALNAME:vallgorguina@vallgorguina.cat
X-WR-TIMEZONE:Europe/Madrid
DESCRIPTION:Calçotada a la Baronia del Montseny dissabte 16 de març a les 13:30

URI:https://www.vallgorguina.cat/actualitat/agenda/calcotada-a-la-baronia-del-montseny.html
CLASS:PUBLIC
END:VEVENT
END:VCALENDAR
