BEGIN:VCALENDAR
VERSION:2.0
CALSCALE:GREGORIAN
PRODID:-//Diputació de Barcelona//DibaCMS//EN
BEGIN:VEVENT
UID:7760
DTSTAMP:20260423T200602
DTSTART:20190308T193000
DTEND:20190308T223000
SUMMARY:  Dia Internacional de les Dones
LOCATION:
METHOD:PUBLISH
X-WR-CALNAME:vallgorguina@vallgorguina.cat
X-WR-TIMEZONE:Europe/Madrid
DESCRIPTION:Passi de Pel·lícula i copa de cava "Les Sufragistes" a la Sala d'exposicions

URI:https://www.vallgorguina.cat/actualitat/agenda/-dia-internacional-de-les-dones.html
CLASS:PUBLIC
END:VEVENT
END:VCALENDAR
