BEGIN:VCALENDAR
VERSION:2.0
CALSCALE:GREGORIAN
PRODID:-//Diputació de Barcelona//DibaCMS//EN
BEGIN:VEVENT
UID:7762
DTSTAMP:20260421T111045
DTSTART:20190322T090000
DTEND:20190323T190000
SUMMARY:Campanya "Aqui no llencem res"
LOCATION:
METHOD:PUBLISH
X-WR-CALNAME:vallgorguina@vallgorguina.cat
X-WR-TIMEZONE:Europe/Madrid
DESCRIPTION:Hi hauran uns voluntaris  que  informar a la ciutadania, bé porta a porta, o llocs d'afluència de públic... o visitar als establiments comercials...

URI:https://www.vallgorguina.cat/actualitat/agenda/campanya-aqui-no-llencem-res.html
CLASS:PUBLIC
END:VEVENT
END:VCALENDAR
