BEGIN:VCALENDAR
VERSION:2.0
CALSCALE:GREGORIAN
PRODID:-//Diputació de Barcelona//DibaCMS//EN
BEGIN:VEVENT
UID:7765
DTSTAMP:20260421T134518
DTSTART:20190323T180000
DTEND:20190324T200000
SUMMARY:Exposició RECUPERART
LOCATION:
METHOD:PUBLISH
X-WR-CALNAME:vallgorguina@vallgorguina.cat
X-WR-TIMEZONE:Europe/Madrid
DESCRIPTION:A les 18.00h inaguració de l'exposició Recuperart a la Sala D'Exposicions i diumenge farem robots amb taps de plàstics

URI:https://www.vallgorguina.cat/actualitat/agenda/exposicio-recuperart.html
CLASS:PUBLIC
END:VEVENT
END:VCALENDAR
