BEGIN:VCALENDAR
VERSION:2.0
CALSCALE:GREGORIAN
PRODID:-//Diputació de Barcelona//DibaCMS//EN
BEGIN:VEVENT
UID:7767
DTSTAMP:20260421T153400
DTSTART:20190325T132400
DTEND:20190325T143000
SUMMARY:Volta Ciclista a Catalunya
LOCATION:
METHOD:PUBLISH
X-WR-CALNAME:vallgorguina@vallgorguina.cat
X-WR-TIMEZONE:Europe/Madrid
DESCRIPTION:Dia 25 de Març a les 13.24h Meta Volant de la Volta Ciclista a Catalunya  

URI:https://www.vallgorguina.cat/actualitat/agenda/volta-ciclista-a-catalunya.html
CLASS:PUBLIC
END:VEVENT
END:VCALENDAR
