BEGIN:VCALENDAR
VERSION:2.0
CALSCALE:GREGORIAN
PRODID:-//Diputació de Barcelona//DibaCMS//EN
BEGIN:VEVENT
UID:7768
DTSTAMP:20260423T201041
DTSTART:20190309T103000
DTEND:20190309T133000
SUMMARY:Portes Obertes Escola Waldorf
LOCATION:
METHOD:PUBLISH
X-WR-CALNAME:vallgorguina@vallgorguina.cat
X-WR-TIMEZONE:Europe/Madrid
DESCRIPTION:
URI:https://www.vallgorguina.cat/actualitat/agenda/portes-obertes-escola-waldorf.html
CLASS:PUBLIC
END:VEVENT
END:VCALENDAR
