BEGIN:VCALENDAR
VERSION:2.0
CALSCALE:GREGORIAN
PRODID:-//Diputació de Barcelona//DibaCMS//EN
BEGIN:VEVENT
UID:7769
DTSTAMP:20260421T153923
DTSTART:20190428T110000
DTEND:20190428T130000
SUMMARY:3r Petit Festival de Vallgorguina
LOCATION:
METHOD:PUBLISH
X-WR-CALNAME:vallgorguina@vallgorguina.cat
X-WR-TIMEZONE:Europe/Madrid
DESCRIPTION:Interpretaran escrits, poemes i música amb els nens i nenes del poble a la Plaça de Sant Andreu acompanyats pels música i glosadors Guillem Ballaz i Marta Rius.

URI:https://www.vallgorguina.cat/actualitat/agenda/3r-petit-festival-de-vallgorguina.html
CLASS:PUBLIC
END:VEVENT
END:VCALENDAR
