BEGIN:VCALENDAR
VERSION:2.0
CALSCALE:GREGORIAN
PRODID:-//Diputació de Barcelona//DibaCMS//EN
BEGIN:VEVENT
UID:777
DTSTAMP:20260423T142403
DTSTART:20180325T120000
DTEND:20180325T180000
SUMMARY:Tastets del món
LOCATION:
METHOD:PUBLISH
X-WR-CALNAME:vallgorguina@vallgorguina.cat
X-WR-TIMEZONE:Europe/Madrid
DESCRIPTION:
URI:https://www.vallgorguina.cat/actualitat/agenda/tastets-del-mon.html
CLASS:PUBLIC
END:VEVENT
END:VCALENDAR
