BEGIN:VCALENDAR
VERSION:2.0
CALSCALE:GREGORIAN
PRODID:-//Diputació de Barcelona//DibaCMS//EN
BEGIN:VEVENT
UID:7771
DTSTAMP:20260421T215123
DTSTART:20190316T170000
DTEND:20190316T190000
SUMMARY:Activitats Nou Espai Jove
LOCATION:
METHOD:PUBLISH
X-WR-CALNAME:vallgorguina@vallgorguina.cat
X-WR-TIMEZONE:Europe/Madrid
DESCRIPTION:Gimcana de Jocs Tradicionals

URI:https://www.vallgorguina.cat/actualitat/agenda/7771-activitats-nou-espai-jove.html
CLASS:PUBLIC
END:VEVENT
END:VCALENDAR
