BEGIN:VCALENDAR
VERSION:2.0
CALSCALE:GREGORIAN
PRODID:-//Diputació de Barcelona//DibaCMS//EN
BEGIN:VEVENT
UID:7772
DTSTAMP:20260421T153750
DTSTART:20190323T170000
DTEND:20190323T190000
SUMMARY:Activitats Nou Espai Jove
LOCATION:
METHOD:PUBLISH
X-WR-CALNAME:vallgorguina@vallgorguina.cat
X-WR-TIMEZONE:Europe/Madrid
DESCRIPTION:Taller de Màgia

URI:https://www.vallgorguina.cat/actualitat/agenda/7772-activitats-nou-espai-jove.html
CLASS:PUBLIC
END:VEVENT
END:VCALENDAR
