BEGIN:VCALENDAR
VERSION:2.0
CALSCALE:GREGORIAN
PRODID:-//Diputació de Barcelona//DibaCMS//EN
BEGIN:VEVENT
UID:7786
DTSTAMP:20260421T153623
DTSTART:20190316T110000
DTEND:20190316T123000
SUMMARY:Pilates amb nens i nenes
LOCATION:
METHOD:PUBLISH
X-WR-CALNAME:vallgorguina@vallgorguina.cat
X-WR-TIMEZONE:Europe/Madrid
DESCRIPTION:Pilates per nens i nenes al Gimnàs de l'Escola ,Adults 5€ nens i nenes gratuit

URI:https://www.vallgorguina.cat/actualitat/agenda/pilates-amb-nens-i-nenes.html
CLASS:PUBLIC
END:VEVENT
END:VCALENDAR
