BEGIN:VCALENDAR
VERSION:2.0
CALSCALE:GREGORIAN
PRODID:-//Diputació de Barcelona//DibaCMS//EN
BEGIN:VEVENT
UID:779
DTSTAMP:20260423T061854
DTSTART:20180402T080000
DTEND:20180402T120000
SUMMARY:Excursió al Corredor. Tradicional Caminada al Corredor el dilluns de Pasqua 
LOCATION:
METHOD:PUBLISH
X-WR-CALNAME:vallgorguina@vallgorguina.cat
X-WR-TIMEZONE:Europe/Madrid
DESCRIPTION:
URI:https://www.vallgorguina.cat/actualitat/agenda/excursio-al-corredor-tradicional-caminada-al-corredor-el-dilluns-de-pasqua-.html
CLASS:PUBLIC
END:VEVENT
END:VCALENDAR
