BEGIN:VCALENDAR
VERSION:2.0
CALSCALE:GREGORIAN
PRODID:-//Diputació de Barcelona//DibaCMS//EN
BEGIN:VEVENT
UID:7794
DTSTAMP:20260421T061440
DTSTART:20190504T180000
DTEND:20190504T210000
SUMMARY:Projecció de la pel·licula PATRIA
LOCATION:
METHOD:PUBLISH
X-WR-CALNAME:vallgorguina@vallgorguina.cat
X-WR-TIMEZONE:Europe/Madrid
DESCRIPTION: Projecció de la pel·lícula PATRIA  a la sala d’exposicions del director de Vallgorguina Joan Frank Charansonnet

URI:https://www.vallgorguina.cat/actualitat/agenda/projeccio-de-la-pellicula-patria.html
CLASS:PUBLIC
END:VEVENT
END:VCALENDAR
