BEGIN:VCALENDAR
VERSION:2.0
CALSCALE:GREGORIAN
PRODID:-//Diputació de Barcelona//DibaCMS//EN
BEGIN:VEVENT
UID:7797
DTSTAMP:20260421T022542
DTSTART:20190628T220000
DTEND:20190628T235500
SUMMARY:Liceu a la Fresca
LOCATION:
METHOD:PUBLISH
X-WR-CALNAME:vallgorguina@vallgorguina.cat
X-WR-TIMEZONE:Europe/Madrid
DESCRIPTION:L’òpera arriba un altre any a Vallgorguina amb el projecte “Liceu a la fresca”.

El passat 16 de juny de 2018, milers de persones, grans i petits, amants de l’òpera i curiosos, van poder gaudir de la retransmissió en directe de l’òpera de Manon Lescaut de Puccini. L’objectiu del “Liceu a la fresca” és difondre la música i l’òpera al major nombre de ciutadans ampliant així la cultura operística.

El Liceu, juntament amb la participació de més de 300 municipis de tota Espanya, Andorra, França, Itàlia i Portugal, van fer possible, l’any passat, una nit inoblidable fent arribar l’òpera a tota la ciutadania, sense limitacions geogràfiques ni econòmiques.

Aquest any l’òpera escollida és Tosca de Giacomo Puccini i Vallgorguina s’hi afegirà perquè tothom qui ho desitgi en pugui gaudir.

L’òpera es retransmetrà divendres 28 de juny a les 22 h a la sala d'exposicions.

URI:https://www.vallgorguina.cat/actualitat/agenda/7797-liceu-a-la-fresca.html
CLASS:PUBLIC
END:VEVENT
END:VCALENDAR
