BEGIN:VCALENDAR
VERSION:2.0
CALSCALE:GREGORIAN
PRODID:-//Diputació de Barcelona//DibaCMS//EN
BEGIN:VEVENT
UID:780
DTSTAMP:20260423T133853
DTSTART:20180428T180000
DTEND:20180428T200000
SUMMARY:"Tornar als remeis de sempre" xerrada i presentació del llibre. Fra Valentí Serra
LOCATION:
METHOD:PUBLISH
X-WR-CALNAME:vallgorguina@vallgorguina.cat
X-WR-TIMEZONE:Europe/Madrid
DESCRIPTION:
URI:https://www.vallgorguina.cat/actualitat/agenda/tornar-als-remeis-de-sempre-xerrada-i-presentacio-del-llibre-fra-valenti-serra.html
CLASS:PUBLIC
END:VEVENT
END:VCALENDAR
