BEGIN:VCALENDAR
VERSION:2.0
CALSCALE:GREGORIAN
PRODID:-//Diputació de Barcelona//DibaCMS//EN
BEGIN:VEVENT
UID:7803
DTSTAMP:20260421T220048
DTSTART:20190319T163500
DTEND:20190319T190000
SUMMARY:Diversitat Familiar
LOCATION:
METHOD:PUBLISH
X-WR-CALNAME:vallgorguina@vallgorguina.cat
X-WR-TIMEZONE:Europe/Madrid
DESCRIPTION:Xerrada per a Famílies

A l'aula d' Anglès i Servei de canguratge a càrrec de l'Ampa

URI:https://www.vallgorguina.cat/actualitat/agenda/diversitat-familiar.html
CLASS:PUBLIC
END:VEVENT
END:VCALENDAR
