BEGIN:VCALENDAR
VERSION:2.0
CALSCALE:GREGORIAN
PRODID:-//Diputació de Barcelona//DibaCMS//EN
BEGIN:VEVENT
UID:7806
DTSTAMP:20260421T083328
DTSTART:20190420T180000
DTEND:20190420T210000
SUMMARY:Associació Cultural Vallgorguina
LOCATION:
METHOD:PUBLISH
X-WR-CALNAME:vallgorguina@vallgorguina.cat
X-WR-TIMEZONE:Europe/Madrid
DESCRIPTION:Us complau a Convidar-vos a la presentació del llibre

MN Narcís Saguer .125 anys del seu Naixement

URI:https://www.vallgorguina.cat/actualitat/agenda/associacio-cultural-vallgorguina.html
CLASS:PUBLIC
END:VEVENT
END:VCALENDAR
