BEGIN:VCALENDAR
VERSION:2.0
CALSCALE:GREGORIAN
PRODID:-//Diputació de Barcelona//DibaCMS//EN
BEGIN:VEVENT
UID:7813
DTSTAMP:20260421T134835
DTSTART:20190329T193000
DTEND:20190329T220000
SUMMARY:Xerrada Velutina
LOCATION:
METHOD:PUBLISH
X-WR-CALNAME:vallgorguina@vallgorguina.cat
X-WR-TIMEZONE:Europe/Madrid
DESCRIPTION:Aprendrem a diferenciar-la habitats i costums, tipus de trampes, on i com trampejar.

 

URI:https://www.vallgorguina.cat/actualitat/agenda/xerrada-velutina.html
CLASS:PUBLIC
END:VEVENT
END:VCALENDAR
