BEGIN:VCALENDAR
VERSION:2.0
CALSCALE:GREGORIAN
PRODID:-//Diputació de Barcelona//DibaCMS//EN
BEGIN:VEVENT
UID:7814
DTSTAMP:20260421T153242
DTSTART:20190323T110000
DTEND:20190323T140000
SUMMARY:Taller d'herbes remeieres
LOCATION:
METHOD:PUBLISH
X-WR-CALNAME:vallgorguina@vallgorguina.cat
X-WR-TIMEZONE:Europe/Madrid
DESCRIPTION:Mira , olora,toca,tasta les herbes remeieres.

Taller gratuït a càrrec de Susanna Arjalaguer

URI:https://www.vallgorguina.cat/actualitat/agenda/taller-dherbes-remeieres.html
CLASS:PUBLIC
END:VEVENT
END:VCALENDAR
