BEGIN:VCALENDAR
VERSION:2.0
CALSCALE:GREGORIAN
PRODID:-//Diputació de Barcelona//DibaCMS//EN
BEGIN:VEVENT
UID:7822
DTSTAMP:20260421T135746
DTSTART:20190324T100000
DTEND:20190324T140000
SUMMARY:Recollida  de Joguines
LOCATION:
METHOD:PUBLISH
X-WR-CALNAME:vallgorguina@vallgorguina.cat
X-WR-TIMEZONE:Europe/Madrid
DESCRIPTION:Joguines sense fronteres, recollida a l'aparcament Poliesportiu

URI:https://www.vallgorguina.cat/actualitat/agenda/recollida-de-joguines.html
CLASS:PUBLIC
END:VEVENT
END:VCALENDAR
