BEGIN:VCALENDAR
VERSION:2.0
CALSCALE:GREGORIAN
PRODID:-//Diputació de Barcelona//DibaCMS//EN
BEGIN:VEVENT
UID:7833
DTSTAMP:20260421T083227
DTSTART:20190423T170000
DTEND:20190423T200000
SUMMARY:Sant Jordi 2019
LOCATION:
METHOD:PUBLISH
X-WR-CALNAME:vallgorguina@vallgorguina.cat
X-WR-TIMEZONE:Europe/Madrid
DESCRIPTION:Vols Pintar una bossa per anar a comprar el pa?

T'esperem a la Plaça de la Vila

URI:https://www.vallgorguina.cat/actualitat/agenda/sant-jordi-2019.html
CLASS:PUBLIC
END:VEVENT
END:VCALENDAR
